BEGIN:VCALENDAR
VERSION:2.0
PRODID:-//Tukios.com/
BEGIN:VEVENT
UID:7afe6328-765e-4c13-8e1d-a42bc235398e@www.carrfuneral.com
DTSTAMP:20260424T220034Z
DTSTART:20260428T140000Z
DTEND:20260428T160000Z
SUMMARY:Visitation
DESCRIPTION:
URL:https://www.carrfuneral.com/obituaries/anne-m-kavanagh
LOCATION:The Carr Funeral Home 220 Bunker Hill Street  Boston MA 02129
GEO:42.3790426;-71.0631209
END:VEVENT
END:VCALENDAR