BEGIN:VCALENDAR
VERSION:2.0
PRODID:-//Tukios.com/
BEGIN:VEVENT
UID:538e6080-3008-420b-8490-5ddb486ff534@www.carrfuneral.com
DTSTAMP:20260424T215902Z
DTSTART:20260428T160000Z
DTEND:20260428T170000Z
SUMMARY:Funeral Service
DESCRIPTION:
URL:https://www.carrfuneral.com/obituaries/anne-m-kavanagh
LOCATION:The Carr Funeral Home 220 Bunker Hill Street  Boston MA 02129
GEO:42.3790426;-71.0631209
END:VEVENT
END:VCALENDAR