BEGIN:VCALENDAR
VERSION:2.0
PRODID:-//Tukios.com/
BEGIN:VEVENT
UID:651186ef-f336-43ca-a137-3505b14e8f28@www.carrfuneral.com
DTSTAMP:20260425T204013Z
DTSTART:20260430T200000Z
DTEND:20260430T230000Z
SUMMARY:Visitation
DESCRIPTION:
URL:https://www.carrfuneral.com/obituaries/freda-m-hoppes-getherall
LOCATION:Carr Funeral Home 220 Bunker Hill St  Charlestown MA 02129
GEO:42.3790426;-71.0631209
END:VEVENT
END:VCALENDAR