BEGIN:VCALENDAR
VERSION:2.0
PRODID:-//Tukios.com/
BEGIN:VEVENT
UID:eb8ce47b-e059-4acc-9bc0-45ffaf6d2936@www.carrfuneral.com
DTSTAMP:20260425T204309Z
DTSTART:20260501T150000Z
DTEND:20260501T160000Z
SUMMARY:Mass
DESCRIPTION:
URL:https://www.carrfuneral.com/obituaries/freda-m-hoppes-getherall
LOCATION:St. Francis De Sales Church 313 Bunker Hill Street  Boston MA 
	02129
GEO:42.3812569;-71.0664904
END:VEVENT
END:VCALENDAR